BEGIN:VCALENDAR
VERSION:2.0
PRODID:-//ACE Settle and area - ECPv6.15.20//NONSGML v1.0//EN
CALSCALE:GREGORIAN
METHOD:PUBLISH
X-WR-CALNAME:ACE Settle and area
X-ORIGINAL-URL:https://acesettleandarea.org
X-WR-CALDESC:Events for ACE Settle and area
REFRESH-INTERVAL;VALUE=DURATION:PT1H
X-Robots-Tag:noindex
X-PUBLISHED-TTL:PT1H
BEGIN:VTIMEZONE
TZID:Europe/London
BEGIN:DAYLIGHT
TZOFFSETFROM:+0000
TZOFFSETTO:+0100
TZNAME:BST
DTSTART:20240331T010000
END:DAYLIGHT
BEGIN:STANDARD
TZOFFSETFROM:+0100
TZOFFSETTO:+0000
TZNAME:GMT
DTSTART:20241027T010000
END:STANDARD
BEGIN:DAYLIGHT
TZOFFSETFROM:+0000
TZOFFSETTO:+0100
TZNAME:BST
DTSTART:20250330T010000
END:DAYLIGHT
BEGIN:STANDARD
TZOFFSETFROM:+0100
TZOFFSETTO:+0000
TZNAME:GMT
DTSTART:20251026T010000
END:STANDARD
BEGIN:DAYLIGHT
TZOFFSETFROM:+0000
TZOFFSETTO:+0100
TZNAME:BST
DTSTART:20260329T010000
END:DAYLIGHT
BEGIN:STANDARD
TZOFFSETFROM:+0100
TZOFFSETTO:+0000
TZNAME:GMT
DTSTART:20261025T010000
END:STANDARD
END:VTIMEZONE
BEGIN:VEVENT
DTSTART;TZID=Europe/London:20251108T103000
DTEND;TZID=Europe/London:20251108T123000
DTSTAMP:20260422T111525
CREATED:20251021T084759Z
LAST-MODIFIED:20251021T164448Z
UID:2348-1762597800-1762605000@acesettleandarea.org
SUMMARY:ACE November Cafe: Nature\, Violence and Courage
DESCRIPTION:Join us for our November Green Cafe\, with speaker Nicholas Temple. Chat over refreshments 10.30-11 and then hear Nicholas’ talk 11-12.15pm on What does it mean to stand for the natural world in an age of crisis? (More details below). \nThis is a free event\, all welcome. Available throughout the morning: recycling box for blister packs and a bag for used toothbrushes and toothpaste tubes and our thermal imaging camera for seeking out those draughty places in need of insulation to help cut your energy bills. \nNicholas’ presentation \nNicholas explores the complex relationship between nature\, violence\, and courage while asking how environmental and socio-political upheavals are reshaping our sense of solidarity and responsibility. \nPart of his wider project Nature Transformed: Erosion and Recovery of Solidarity\, which is currently under consideration for Bloomsbury’s Environmental Cultures series\, this talk weaves together years of research with urgent questions for today. This talk draws on many of the themes from his previous research\, but focuses primarily on the current environmental and socio-political crises we are facing. Nicholas invites us to look unflinchingly at the forces that threaten our shared future\, and to consider the acts of courage\, both large and small\, that might help us reclaim it. \nThis is a space for anyone who believes that ideas can inspire action\, since facing hard truths together is the first step towards meaningful change. \nAbout Nicholas \nNicholas Temple is an Australian academic living in Settle in North Yorkshire. He is currently a fractional senior professor in architectural history at London Metropolitan University\, and has previously held academic positions at the University of Pennsylvania (USA)\, Liverpool University\, Nottingham University and Huddersfield University. \nNicholas has researched and published widely on matters relating to the history\, culture and representation of architecture and the city\, including the following books The Temporality of Building: European and Chinese Perspectives on Architecture and Heritage (2025); Architecture and the Language Debate: Artistic and Linguistic Exchanges in Early Modern Italy (2020); Renovatio Urbis: Architecture\, Urbanism and Ceremony in the Rome of Julius II (2011) and Disclosing Horizons: Architecture\, Perspective and Redemptive Space (2007).
URL:https://acesettleandarea.org/event/ace-november-cafe-nature-violence-and-courage/
LOCATION:St John’s Methodist Church\, Church Street\, Settle\, North Yorkshire\, BD24 9JH\, United Kingdom
ATTACH;FMTTYPE=image/jpeg:https://acesettleandarea.org/wp-content/uploads/2025/10/Bio-Nicholas-Temple-Bio-e1761035492659.jpeg
END:VEVENT
END:VCALENDAR