BEGIN:VCALENDAR
VERSION:2.0
PRODID:-//ACE Settle and area - ECPv6.15.20//NONSGML v1.0//EN
CALSCALE:GREGORIAN
METHOD:PUBLISH
X-WR-CALNAME:ACE Settle and area
X-ORIGINAL-URL:https://acesettleandarea.org
X-WR-CALDESC:Events for ACE Settle and area
REFRESH-INTERVAL;VALUE=DURATION:PT1H
X-Robots-Tag:noindex
X-PUBLISHED-TTL:PT1H
BEGIN:VTIMEZONE
TZID:Europe/London
BEGIN:DAYLIGHT
TZOFFSETFROM:+0000
TZOFFSETTO:+0100
TZNAME:BST
DTSTART:20220327T010000
END:DAYLIGHT
BEGIN:STANDARD
TZOFFSETFROM:+0100
TZOFFSETTO:+0000
TZNAME:GMT
DTSTART:20221030T010000
END:STANDARD
BEGIN:DAYLIGHT
TZOFFSETFROM:+0000
TZOFFSETTO:+0100
TZNAME:BST
DTSTART:20230326T010000
END:DAYLIGHT
BEGIN:STANDARD
TZOFFSETFROM:+0100
TZOFFSETTO:+0000
TZNAME:GMT
DTSTART:20231029T010000
END:STANDARD
BEGIN:DAYLIGHT
TZOFFSETFROM:+0000
TZOFFSETTO:+0100
TZNAME:BST
DTSTART:20240331T010000
END:DAYLIGHT
BEGIN:STANDARD
TZOFFSETFROM:+0100
TZOFFSETTO:+0000
TZNAME:GMT
DTSTART:20241027T010000
END:STANDARD
END:VTIMEZONE
BEGIN:VEVENT
DTSTART;TZID=Europe/London:20231209T103000
DTEND;TZID=Europe/London:20231209T123000
DTSTAMP:20260422T144717
CREATED:20231024T144312Z
LAST-MODIFIED:20231124T123845Z
UID:1258-1702117800-1702125000@acesettleandarea.org
SUMMARY:December's Green Cafe - Fairtrade for Christmas
DESCRIPTION:Join us for our last Green Cafe of the year. \nOur cafe will be running for fairtrade tea\, coffee and mince pies until 12 Noon. \nFairtrade items for Christmas will be on sale. \nHave a ‘Sustainable Christmas’. Check out these ideas from Skipton Methodists to help you have a: Sustainable Christmas 23 \nAnd…let us know what you would like to see ACE doing in 2024 and how you can be involved in our work. This will continue to be a critical year for climate action – especially with two elections in 2024 for us in North Yorshire – for the York and North Yorkshire combined authority mayor and the general election.
URL:https://acesettleandarea.org/event/decembers-green-cafe/
LOCATION:St John’s Methodist Church\, Church Street\, Settle\, North Yorkshire\, BD24 9JH\, United Kingdom
ATTACH;FMTTYPE=image/jpeg:https://acesettleandarea.org/wp-content/uploads/2023/08/FT-event-image-1-19.8.23.jpg
END:VEVENT
BEGIN:VEVENT
DTSTART;TZID=Europe/London:20230916T103000
DTEND;TZID=Europe/London:20230916T124500
DTSTAMP:20260422T144717
CREATED:20230829T085818Z
LAST-MODIFIED:20230829T102245Z
UID:1040-1694860200-1694868300@acesettleandarea.org
SUMMARY:On Track to Cut Carbon?
DESCRIPTION:As part of September’s Green Cafe we will have a talk from Peter Myers\, Chair of Settle-Carlisle Railway Development Company. \nIn ‘On Track to Cut Carbon? The Settle-Carlisle Railway’s Place in the Climate Emergency’ Peter will cover the often conflicting local and national expectations of ‘our’ railway\, and the added challenges of the network’s transition to a low carbon future. \nAll welcome throughout the morning: \n10.30-11am Chat over teas\, coffee and biscuits about local actions and topical issues around the climate emergency \n11-11.35am ACE’s Annual General Meeting and annual review \n11.35am-12.35pm Peter’s talk \n12.35-12.45pm Final remarks\, notices and close \nThis is a free event with donations for refreshments and room hire.
URL:https://acesettleandarea.org/event/on-track-to-cut-carbon/
LOCATION:St John’s Methodist Church\, Church Street\, Settle\, North Yorkshire\, BD24 9JH\, United Kingdom
ATTACH;FMTTYPE=image/jpeg:https://acesettleandarea.org/wp-content/uploads/2023/08/Settle-railway-station.jpeg
END:VEVENT
BEGIN:VEVENT
DTSTART;TZID=Europe/London:20230610T103000
DTEND;TZID=Europe/London:20230610T123000
DTSTAMP:20260422T144717
CREATED:20230609T114744Z
LAST-MODIFIED:20230622T194111Z
UID:581-1686393000-1686400200@acesettleandarea.org
SUMMARY:The Magic of Soil
DESCRIPTION:June’s Green Cafe is part of ‘Settle Great Big Green Week’ and features a presentation about the importance of soil health. \nOur speaker\, Martyna Krol\, will take us through some facts about soil\, what makes it alive and abundant and how soil can help us to grow more nutritious food. Discover how we can adapt our gardening to help protect the soil from extreme weather caused by climate change. \nMartyna will also have some gardening tips with dry summer in mind\, so whether you’re growing in a container or in a field\, these may come useful and help you get the best of your growing season. \nMartyna is a horticultural consultant with background in hydroponics\, aquaponics and soil science. Through learning about soil chemistry and these urban farming methods\, she started understanding the complexity of living soil and its effect on our gardens\, health and the climate. \nEvent timings:\n10.30-11am: Cafe and chat over refreshments about topical issues \n11am-12.15pm: Presentation and Q&A \n12.15-12.30pm: Final remarks and notices \nFree. All welcome. \nImage credit: provided by Martyna Krol
URL:https://acesettleandarea.org/event/the-magic-of-soil/
LOCATION:North Yorkshire
ATTACH;FMTTYPE=image/webp:https://acesettleandarea.org/wp-content/uploads/2023/06/Martyna-image-scaled-1-e1686334900613.webp
END:VEVENT
BEGIN:VEVENT
DTSTART;TZID=Europe/London:20230311T103000
DTEND;TZID=Europe/London:20230311T123000
DTSTAMP:20260422T144717
CREATED:20230228T155629Z
LAST-MODIFIED:20230228T155629Z
UID:228-1678530600-1678537800@acesettleandarea.org
SUMMARY:Circular Yorkshire Campaign
DESCRIPTION:March’s Green Cafe features the ‘Circular Yorkshire’ Campaign – which aims to help combat the climate crisis by  making the most of every resource we have. Come and find out more and how you can get involved. \nEvent timings: \n10.30-11am: Cafe and chat over refreshments about topical issues \n11-12 Noon: Presentations from: \n*Erin Wheeler of York and North Yorkshire Local Enterprise Partnership about how we can get involved locally\, through the ‘circular towns’ model. You can find out more about the ‘Circular Yorkshire’ Campaign here: https://www.ynylep.com/initiatives/circular-yorkshire \n*Ann Harding of Settle Victoria Hall about their new up-cycling initiative. \n12-12.20: Ideas and next steps \n12.20-12.30: Final remarks and notices \nDonations on the door for room hire\, appreciated.
URL:https://acesettleandarea.org/event/circular-yorkshire-campaign/
LOCATION:St John’s Methodist Church\, Church Street\, Settle\, North Yorkshire\, BD24 9JH\, United Kingdom
ATTACH;FMTTYPE=image/webp:https://acesettleandarea.org/wp-content/uploads/2023/02/YNYLEP-circular-economy-image.webp
END:VEVENT
END:VCALENDAR